BEGIN:VCALENDAR
VERSION:2.0
PRODID:-//Bob Boze Bell - ECPv6.15.20//NONSGML v1.0//EN
CALSCALE:GREGORIAN
METHOD:PUBLISH
X-ORIGINAL-URL:https://bozebell.com
X-WR-CALDESC:Events for Bob Boze Bell
REFRESH-INTERVAL;VALUE=DURATION:PT1H
X-Robots-Tag:noindex
X-PUBLISHED-TTL:PT1H
BEGIN:VTIMEZONE
TZID:America/Phoenix
BEGIN:STANDARD
TZOFFSETFROM:-0700
TZOFFSETTO:-0700
TZNAME:MST
DTSTART:20250101T000000
END:STANDARD
END:VTIMEZONE
BEGIN:VEVENT
DTSTART;TZID=America/Phoenix:20260321T140000
DTEND;TZID=America/Phoenix:20260321T160000
DTSTAMP:20260421T092853
CREATED:20260120T233946Z
LAST-MODIFIED:20260120T233946Z
UID:2863-1774101600-1774108800@bozebell.com
SUMMARY:Cave Creek Museum Presents Bob Boze Bell
DESCRIPTION:Cave Creek Museum Presents Bob Boze Bell\, local expert on the subject “The 66 Kid on Growing Up on the Mother Road.” The presentation will take place on Saturday\, March 21 from 2-4 PM at Cave Creek Museum. \nLocal history buff Bob Boze Bell grew up on Route 66 where his father owned a gas station\, Al Bell’s Flying A on Hilltop\, outside Kingman\, Boze Bell has written two books about his experiences icing jugs and pumping gas. He also is the executive editor and co-owner of True West magazine\, which he bought with two crazy friends in 1999 and moved the headquarters where it has been in Cave Creek ever since. In addition to the magazine\, Bell has published more than 12 other books on legendary Old West characters like Billy the Kid\, Wyatt Earp and Doc Holliday. In addition\, he co-wrote and published “Hellraisers & Trailblazers: The Real Women of The Wild West” with the late\, great Jana Bommersbach. Bell also will sell his new artwork\, which features local landscapes like Elephant Butte and The Seven Sisters. \nThe presentation is free to museum members and $10 for non-members. Register at cavecreekmuseum.org. Bell will bring art pieces to show and books to sell at the event.
URL:https://bozebell.com/event/2026-03-21/
LOCATION:Cave Creek Museum\, 6140 E Skyline Drive\, Cave Creek\, AZ\, AZ\, 85331\, United States
ATTACH;FMTTYPE=image/jpeg:https://bozebell.com/wp-content/uploads/2026/01/bbbscotthatsbest.jpg
END:VEVENT
BEGIN:VEVENT
DTSTART;VALUE=DATE:20260430
DTEND;VALUE=DATE:20260501
DTSTAMP:20260421T092853
CREATED:20260129T181404Z
LAST-MODIFIED:20260129T181404Z
UID:2874-1777507200-1777593599@bozebell.com
SUMMARY:Seligman Centennial Celebration
DESCRIPTION:Celebrate the Route 66 Centennial in one of the Mother Road’s most iconic towns! Seligman will unveil its brand-new Centennial monument signs\, marking the occasion with a full day of festivities. Expect small-town charm\, community pride\, and plenty of Route 66 spirit as locals and travelers come together for this milestone celebration. Stick around for a day-long party honoring the history—and future—of Seligman and the Mother Road.
URL:https://bozebell.com/event/seligman-centennial-celebration/
LOCATION:Seligman\, Arizona\, 22440 Schoeney Avenue\, Seligman\, AZ\, 86337\, United States
ATTACH;FMTTYPE=image/webp:https://bozebell.com/wp-content/uploads/2026/01/Arizona-Route-66-Event.webp
END:VEVENT
BEGIN:VEVENT
DTSTART;TZID=America/Phoenix:20260502T190000
DTEND;TZID=America/Phoenix:20260502T190000
DTSTAMP:20260421T092853
CREATED:20260416T223107Z
LAST-MODIFIED:20260416T223107Z
UID:2899-1777748400-1777748400@bozebell.com
SUMMARY:BBB & The 66 Kids Road Show
DESCRIPTION:A very special evening to celebrate Bob Boze Bell and his remarkable achievements as Co-Owner & Executive Editor of True West Magazine. \nLive on stage with his Razz Band and the Hazeltine Theater in Prescott\, AZ. \nGeneral Admission $15 & Preferred Seating $25.
URL:https://bozebell.com/event/bbb-the-66-kids-road-show/
LOCATION:Hazeltine Theater\, 208 N. Marina St\, Prescott\, AZ\, 86303\, United States
ATTACH;FMTTYPE=image/jpeg:https://bozebell.com/wp-content/uploads/2026/04/bbb66kidsroadshowposter.jpg
END:VEVENT
END:VCALENDAR